BEGIN:VCALENDAR
VERSION:2.0
PRODID:-//InvisionCommunity Events 4.7.24//EN
METHOD:PUBLISH
CALSCALE:GREGORIAN
REFRESH-INTERVAL:PT15M
X-PUBLISHED-TTL:PT15M
X-WR-CALNAME:Календарь акций и мероприятий
NAME:Календарь акций и мероприятий
BEGIN:VTIMEZONE
TZID:Europe/London
TZURL:http://tzurl.org/zoneinfo/Europe/London
X-LIC-LOCATION:Europe/London
BEGIN:DAYLIGHT
TZOFFSETFROM:+0000
TZOFFSETTO:+0100
TZNAME:BST
DTSTART:20100328T020000Z
RRULE:FREQ=YEARLY;BYMONTH=3;BYDAY=-1SU
END:DAYLIGHT
BEGIN:STANDARD
TZOFFSETFROM:+0100
TZOFFSETTO:+0000
TZNAME:GMT
DTSTART:20101031T020000Z
RRULE:FREQ=YEARLY;BYMONTH=10;BYDAY=-1SU
END:STANDARD
END:VTIMEZONE
BEGIN:VEVENT
SUMMARY:Приглашаем на выставку по обр
	азованию за рубежом!
DTSTAMP:20101112T084049Z
SEQUENCE:1
UID:17-1-17c216a666e9a645ce5cb2c009c2ebb8@forum.chemodan.com.ua
ORGANIZER;CN="Katryn":forums@chemodan.com.ua
DESCRIPTION:\nМечтаете у
	читься за рубе
	жом\, но не опре
	делились со ст
	раной и вузом? 
	Приглашаем вс
	ех форумчан\, ж
	ивущих в Украин
	е\, посетить сте
	нд нашей компании \
	"Гольфстрим\" (администрация 
	форума) на выставке «Education ab
	road»\, которая пройдет с
	 15 по 20 ноября в трех г
	ородах: Донецке\, 
	Днепропетровске
	 и Киеве! \n \n\
	nНа выстав
	ке будут пре
	дставлены след
	ующие образоват
	ельные программы 
	\"Гольфстрим\":\n\n• 
	Высшее образован
	ие в Чехии\, Германии\
	, Австрии\, Польше\,
	 Великобритании\, 
	Канаде\, США\, Авст
	ралии и Новой Зела
	ндии.\n\n• Языковые к
	урсы на Мальте\, в Че
	хии\, Германии\, Авс
	трии\, Канаде\, Велико
	британии\, Австралии
	\, США и Новой Зела
	ндии.\n \n\nНа вы
	ставке Вы 
	сможете лич
	но задать в
	опросы об об
	разовании и 
	студенческой 
	жизни в Чехии
	 нашим почетны
	м гостям - чешским партнер
	ам\, представителям организации \"G
	o Study group s.r.o.\" (Острава\,
	 Прага) Алекс
	андру Ключн
	икову и Радану
	 Юнгеру. Встреча с 
	чешскими гостями 
	пройдет только в 
	Киеве. \n \n\nНа
	 выставке
	 мы предлагаем вс
	ем желающим стать
	 участниками уникал
	ьной системы \"UniG
	o\"! Зарегистриро
	вавшись\, Вы 
	получаете м
	ассу преиму
	ществ\, в т
	ом числе 
	возможно
	сть опер
	ативно по
	лучать сам
	ую актуальн
	ую информаци
	ю из области о
	бразования и жи
	зни за рубежом 
	(изменения в 
	стоимости\, 
	сроках\, у
	словиях уч
	астия в обр
	азовательны
	х программах и
	 курсах иностран
	ных языков). Вы пер
	выми узнаете о с
	кидках и бонусах
	 от \"Гольфстрим\".
	 А еще сможете 
	получить ски
	дку на услуги 
	\"Гольфстрим\"
	 по любой о
	бразовате
	льной програ
	мме! Для этог
	о нужно про
	сто заполни
	ть специальный 
	бланк\, который В
	ам предоставит консу
	льтант на стенде. \n \n\nГр
	афик работы выставки: \n\nДонец
	к\n\n15 ноября 2010 г. (понедельник)\, с 11-
	00 до 17-00.\n\nул. Артема\, 80\, гос
	тиница \"Донбасс Палас\".\n \
	n\nДнепропетровск\n\n16 ноября 2010 г. (в
	торник)\, с 11-00 до 17-00.\n\nпл. Шевче
	нко\, 1\, \"ДК студентов ДНУ\".\n
	 \n\nКиев\n\n• 18-19 ноября (четверг-пятни
	ца) - с 11-00 до 18-00\;\n\n• 20 ноября (суббота) 
	- с 11-00 до 17-00.\n\nул. Крещат
	ик\, 2 (станция метро \"Майд
	ан незалежності\")\, \"У
	краинский Дом\". \
	n \n\nЗадать в
	опросы о в
	ыставке и
	 получить
	 консульта
	цию по вопр
	осам образован
	ия и изучения иностранных я
	зыков за рубежом Вы можете 
	по &lt\;noindex&gt\;бесплатному номеру \"го
	рячей линии\"&lt\;/noindex&gt\;!\n
DTSTART:20101112T020000Z
DTEND:20101122T015959Z
END:VEVENT
END:VCALENDAR
