BEGIN:VCALENDAR
VERSION:2.0
PRODID:-//InvisionCommunity Events 4.7.24//EN
METHOD:PUBLISH
CALSCALE:GREGORIAN
REFRESH-INTERVAL:PT15M
X-PUBLISHED-TTL:PT15M
X-WR-CALNAME:Календарь акций и мероприятий
NAME:Календарь акций и мероприятий
BEGIN:VTIMEZONE
TZID:Europe/London
TZURL:http://tzurl.org/zoneinfo/Europe/London
X-LIC-LOCATION:Europe/London
BEGIN:DAYLIGHT
TZOFFSETFROM:+0000
TZOFFSETTO:+0100
TZNAME:BST
DTSTART:20100328T020000Z
RRULE:FREQ=YEARLY;BYMONTH=3;BYDAY=-1SU
END:DAYLIGHT
BEGIN:STANDARD
TZOFFSETFROM:+0100
TZOFFSETTO:+0000
TZNAME:GMT
DTSTART:20101031T020000Z
RRULE:FREQ=YEARLY;BYMONTH=10;BYDAY=-1SU
END:STANDARD
END:VTIMEZONE
BEGIN:VEVENT
SUMMARY:Учись бесплатно в Европе! Конк
	урс с суперпризами!
DTSTAMP:20100602T131627Z
SEQUENCE:1
UID:12-1-17c216a666e9a645ce5cb2c009c2ebb8@forum.chemodan.com.ua
ORGANIZER;CN="Katryn":forums@chemodan.com.ua
DESCRIPTION:\nКомпани
	я «Гольфс
	трим» сов
	местно с 
	партнерами и
	з Словакии объ
	являет суперко
	нкурс с неверо
	ятными призами!\n \
	n\nКакие призы п
	олучат победи
	тели конкурса
	?\n\nОдин из тр
	ех беспла
	тных курс
	ов изучения 
	словацкого яз
	ыка в столице
	 Словакии Бр
	атиславе сроком на 1 
	месяц (при поддержке парт
	нера «Гольфстрим» - &lt\;noindex&gt
	\;Братиславской школы права&lt\;/no
	index&gt\;). \n \n\nЧто сделат
	ь\, чтобы выиграть приз
	 и изучать язык в Словаки
	и?\n\nЕсли тебе от 16 до 
	30 лет и у тебя
	 есть загран
	ичный паспорт\
	, то осталось 
	подготовить тво
	рческую работу на т
	ему \"Хочу учиться в 
	Европе!\" и выслать ее по адр
	есу  или посредством &lt\;noindex&gt\;почт
	овой формы&lt\;/noindex&gt\; с поме
	ткой \"Словакия\".
	\n \n\nВ качест
	ве конкурсной
	 работы может 
	выступать ви
	деоролик\, фо
	токоллаж\, эссе 
	или любые друг
	ие формы проявл
	ения твоего творч
	ества.\n \n\nПрие
	м конкурсных 
	работ уже началс
	я\, тебе нужно успеть отп
	равить нам свою работу до 3
	0 июня 2010 года!\n \n\n\n\nПоявились вопросы? \
	n\n                        &lt\;noindex&gt\;Запр
	оси условия конкурса по почте&lt\;/noindex&gt\;\
	n \n\n                                                                   
	 &lt\;noindex&gt\;Ну или почитай сам…&lt\;/noindex&gt\;\n
	\n
DTSTART:20100601T030000Z
DTEND:20100701T025959Z
END:VEVENT
END:VCALENDAR
